BEGIN:VCALENDAR
VERSION:2.0
PRODID:-//ASFA - ECPv6.15.20//NONSGML v1.0//EN
CALSCALE:GREGORIAN
METHOD:PUBLISH
X-ORIGINAL-URL:https://www.superannuation.asn.au
X-WR-CALDESC:Events for ASFA
REFRESH-INTERVAL;VALUE=DURATION:PT1H
X-Robots-Tag:noindex
X-PUBLISHED-TTL:PT1H
BEGIN:VTIMEZONE
TZID:Australia/Sydney
BEGIN:STANDARD
TZOFFSETFROM:+1100
TZOFFSETTO:+1000
TZNAME:AEST
DTSTART:20240406T160000
END:STANDARD
BEGIN:DAYLIGHT
TZOFFSETFROM:+1000
TZOFFSETTO:+1100
TZNAME:AEDT
DTSTART:20241005T160000
END:DAYLIGHT
BEGIN:STANDARD
TZOFFSETFROM:+1100
TZOFFSETTO:+1000
TZNAME:AEST
DTSTART:20250405T160000
END:STANDARD
BEGIN:DAYLIGHT
TZOFFSETFROM:+1000
TZOFFSETTO:+1100
TZNAME:AEDT
DTSTART:20251004T160000
END:DAYLIGHT
BEGIN:STANDARD
TZOFFSETFROM:+1100
TZOFFSETTO:+1000
TZNAME:AEST
DTSTART:20260404T160000
END:STANDARD
BEGIN:DAYLIGHT
TZOFFSETFROM:+1000
TZOFFSETTO:+1100
TZNAME:AEDT
DTSTART:20261003T160000
END:DAYLIGHT
END:VTIMEZONE
BEGIN:VEVENT
DTSTART;TZID=Australia/Sydney:20251111T073000
DTEND;TZID=Australia/Sydney:20251113T170000
DTSTAMP:20260423T061440
CREATED:20250429T033341Z
LAST-MODIFIED:20251111T030940Z
UID:10000524-1762846200-1763053200@www.superannuation.asn.au
SUMMARY:ASFA Conference 2025
DESCRIPTION:Shaping the Future of Retirement\n\n\n\n\n  \nThe ASFA Conference is the largest superannuation gathering in the world\, setting the agenda for and shaping the future of retirement. \nThis year’s conference has been reimagined to deliver more impact\, more insight\, and more meaningful connections for all attendees. \nHere’s what you can expect: \n\nMasterclasses (Tues 11 Nov): Half-day of targeted Masterclasses followed by a networking event to kick-off the ASFA Conference.\nASFA Conference Sessions (Wed 12/ Thurs 13 Nov): The conference officially commences with engaging keynotes and tailored sessions across the two days.\nDinner Event: (Wed 12 Nov): a dinner event designed to make networking easier\, encourage meaningful conversations and valuable connections.\n\n\n\n\nVisit the ASFA Conference website for more information. \n\n\n 
URL:https://www.superannuation.asn.au/event/asfa-conference-2025/
LOCATION:Gold Coast Convention & Exhibition Centre (GCCEC)\, GCCEC\, Gold Coast Hwy\, Broadbeach QLD\, Broadbeach\, QLD\, 4218\, Australia
CATEGORIES:Event
ATTACH;FMTTYPE=image/avif:https://www.superannuation.asn.au/wp-content/uploads/2025/03/Conference-Banner.avif
END:VEVENT
END:VCALENDAR